BEGIN:VCALENDAR
VERSION:2.0
PRODID:-//demosphere.net//NONSGML kigkonsult.se iCalcreator 2.22.1//
METHOD:REQUEST
X-WR-TIMEZONE:Europe/Paris
BEGIN:VEVENT
UID:https://04.demosphere.net/rv/1207
DTSTAMP:20160127T170000Z
DESCRIPTION:plus d'infos sur : https://04.demosphere.net/rv/1207
DTSTART:20160127T170000Z
DTEND:20160127T180000Z
GEO:+44.090481;+6.231952
LOCATION:Digne-les-Bains\, \nCinétoiles\, avenue François-Cuzin (rond-point
  du monument aux morts)
SUMMARY:Projection-débat : À la rencontre d'un pays perdu
URL:https://04.demosphere.net/rv/1207
END:VEVENT
END:VCALENDAR
