BEGIN:VCALENDAR
VERSION:2.0
PRODID:-//demosphere.net//NONSGML kigkonsult.se iCalcreator 2.22.1//
METHOD:REQUEST
X-WR-TIMEZONE:Europe/Paris
BEGIN:VEVENT
UID:https://04.demosphere.net/rv/1210
DTSTAMP:20160129T170000Z
DESCRIPTION:plus d'infos sur : https://04.demosphere.net/rv/1210
DTSTART:20160129T170000Z
DTEND:20160129T180000Z
GEO:+44.090481;+6.231952
LOCATION:Digne-les-Bains\, \nCinétoiles\, avenue François-Cuzin (rond-point
  du monument aux morts)
SUMMARY:Projection-débat : La Traversée
URL:https://04.demosphere.net/rv/1210
END:VEVENT
END:VCALENDAR
