BEGIN:VCALENDAR
VERSION:2.0
PRODID:-//demosphere.net//NONSGML kigkonsult.se iCalcreator 2.22.1//
METHOD:REQUEST
X-WR-TIMEZONE:Europe/Paris
BEGIN:VEVENT
UID:https://04.demosphere.net/rv/1698
DTSTAMP:20170323T171500Z
DESCRIPTION:plus d'infos sur : https://04.demosphere.net/rv/1698
DTSTART:20170323T171500Z
DTEND:20170323T181500Z
GEO:+44.090481;+6.231952
LOCATION:Digne-les-Bains\, \nCinétoiles\, avenue François-Cuzin (rond-point
  du monument aux morts)
SUMMARY:Projection-débat : La Sociale
URL:https://04.demosphere.net/rv/1698
END:VEVENT
END:VCALENDAR
