BEGIN:VCALENDAR
VERSION:2.0
PRODID:-//demosphere.net//NONSGML kigkonsult.se iCalcreator 2.22.1//
METHOD:REQUEST
X-WR-TIMEZONE:Europe/Paris
BEGIN:VEVENT
UID:https://04.demosphere.net/rv/2404
DTSTAMP:20260501T130000Z
DESCRIPTION:plus d'infos sur : https://04.demosphere.net/rv/2404
DTSTART:20260501T130000Z
DTEND:20260501T140000Z
GEO:+43.974735;+5.672626
LOCATION:Revest-des-Brousses\, \nAire d'accueil Revest des Brousses\, Lieu 
 dit Le Pontet
SUMMARY:Canta Maï
URL:https://04.demosphere.net/rv/2404
END:VEVENT
END:VCALENDAR
