BEGIN:VCALENDAR
VERSION:2.0
PRODID:-//demosphere.net//NONSGML kigkonsult.se iCalcreator 2.22.1//
METHOD:REQUEST
X-WR-TIMEZONE:Europe/Paris
BEGIN:VEVENT
UID:https://04.demosphere.net/rv/2406
DTSTAMP:20260429T100000Z
DESCRIPTION:plus d'infos sur : https://04.demosphere.net/rv/2406
DTSTART:20260429T100000Z
DTEND:20260429T110000Z
GEO:+43.959885;+5.783541
LOCATION:Forcalquier\, \nJARDIN DU COUVENT DES CORDELIERS
SUMMARY:Village solidaire 
URL:https://04.demosphere.net/rv/2406
END:VEVENT
END:VCALENDAR
