BEGIN:VCALENDAR
VERSION:2.0
PRODID:-//demosphere.net//NONSGML kigkonsult.se iCalcreator 2.22.1//
METHOD:REQUEST
X-WR-TIMEZONE:Europe/Paris
BEGIN:VEVENT
UID:https://04.demosphere.net/rv/2407
DTSTAMP:20260430T163000Z
DESCRIPTION:plus d'infos sur : https://04.demosphere.net/rv/2407
DTSTART:20260430T163000Z
DTEND:20260430T173000Z
GEO:+44.090481;+6.231952
LOCATION:Digne-les-Bains\, \nCinétoiles\, avenue François-Cuzin (rond-point
  du monument aux morts)
SUMMARY:Projection SOULEVEMENTS + débat
URL:https://04.demosphere.net/rv/2407
END:VEVENT
END:VCALENDAR
