BEGIN:VCALENDAR
VERSION:2.0
PRODID:-//demosphere.net//NONSGML kigkonsult.se iCalcreator 2.22.1//
METHOD:REQUEST
X-WR-TIMEZONE:Europe/Paris
BEGIN:VEVENT
UID:https://04.demosphere.net/rv/2408
DTSTAMP:20260501T083000Z
DESCRIPTION:plus d'infos sur : https://04.demosphere.net/rv/2408
DTSTART:20260501T083000Z
DTEND:20260501T093000Z
GEO:+44.093175;+6.236441
LOCATION:Digne-les-Bains\, \nPlace du général de Gaulle
SUMMARY:Manifestation du 1er mai
URL:https://04.demosphere.net/rv/2408
END:VEVENT
END:VCALENDAR
