BEGIN:VCALENDAR
VERSION:2.0
PRODID:-//demosphere.net//NONSGML kigkonsult.se iCalcreator 2.22.1//
METHOD:REQUEST
X-WR-TIMEZONE:Europe/Paris
BEGIN:VEVENT
UID:https://04.demosphere.net/rv/2409
DTSTAMP:20260501T090000Z
DESCRIPTION:plus d'infos sur : https://04.demosphere.net/rv/2409
DTSTART:20260501T090000Z
DTEND:20260501T100000Z
GEO:+43.835703;+5.783927
LOCATION:Manosque\, \nEsplanade du cinéma CGR à Manosque (espace Soubeyran)
SUMMARY:Manifestation 1er Mai
URL:https://04.demosphere.net/rv/2409
END:VEVENT
END:VCALENDAR
