BEGIN:VCALENDAR
VERSION:2.0
PRODID:-//demosphere.net//NONSGML kigkonsult.se iCalcreator 2.22.1//
METHOD:REQUEST
X-WR-TIMEZONE:Europe/Paris
BEGIN:VEVENT
UID:https://04.demosphere.net/rv/2410
DTSTAMP:20260530T080000Z
DESCRIPTION:plus d'infos sur : https://04.demosphere.net/rv/2410
DTSTART:20260530T080000Z
DTEND:20260530T090000Z
GEO:+43.968835;+4.856334
LOCATION:Le Pontet (84)\, \n304 avenue Vendôme 84130 Le Pontet
SUMMARY:L’Université Citoyenne ouvre grand ses portes à toutes et à tous.
URL:https://04.demosphere.net/rv/2410
END:VEVENT
END:VCALENDAR
