BEGIN:VCALENDAR
VERSION:2.0
PRODID:-//demosphere.net//NONSGML kigkonsult.se iCalcreator 2.22.1//
METHOD:REQUEST
X-WR-TIMEZONE:Europe/Paris
BEGIN:VEVENT
UID:https://04.demosphere.net/rv/2411
DTSTAMP:20260517T163000Z
DESCRIPTION:plus d'infos sur : https://04.demosphere.net/rv/2411
DTSTART:20260517T163000Z
DTEND:20260517T173000Z
GEO:+43.958217;+5.780902
LOCATION:Forcalquier\, \nLE LOCAL - 2 place du Palais
SUMMARY:CORRIDOR INTEROCÉANIQUE AU MEXIQUE Désastre régional et profit inte
 rnational !
URL:https://04.demosphere.net/rv/2411
END:VEVENT
END:VCALENDAR
