BEGIN:VCALENDAR
VERSION:2.0
PRODID:-//demosphere.net//NONSGML kigkonsult.se iCalcreator 2.22.1//
METHOD:REQUEST
X-WR-TIMEZONE:Europe/Paris
BEGIN:VEVENT
UID:https://04.demosphere.net/rv/2412
DTSTAMP:20260509T120000Z
DESCRIPTION:plus d'infos sur : https://04.demosphere.net/rv/2412
DTSTART:20260509T120000Z
DTEND:20260509T130000Z
GEO:+43.958217;+5.780902
LOCATION:Forcalquier\, \nLE LOCAL - 2 place du Palais
SUMMARY:COMMENT RENDRE UN MOUVEMENT POPULAIRE ?
URL:https://04.demosphere.net/rv/2412
END:VEVENT
END:VCALENDAR
