BEGIN:VCALENDAR
VERSION:2.0
PRODID:-//demosphere.net//NONSGML kigkonsult.se iCalcreator 2.22.1//
METHOD:REQUEST
X-WR-TIMEZONE:Europe/Paris
BEGIN:VEVENT
UID:https://04.demosphere.net/rv/619
DTSTAMP:20150128T193000Z
DESCRIPTION:plus d'infos sur : https://04.demosphere.net/rv/619
DTSTART:20150128T193000Z
DTEND:20150128T203000Z
GEO:+44.090481;+6.231952
LOCATION:Digne-les-Bains\, \nCinétoiles\, avenue François-Cuzin (rond-point
  du monument aux morts)
SUMMARY:Projection débat : Les Jours heureux
URL:https://04.demosphere.net/rv/619
END:VEVENT
END:VCALENDAR
