BEGIN:VCALENDAR
VERSION:2.0
PRODID:-//demosphere.net//NONSGML kigkonsult.se iCalcreator 2.22.1//
METHOD:REQUEST
X-WR-TIMEZONE:Europe/Paris
BEGIN:VEVENT
UID:https://04.demosphere.net/rv/98
DTSTAMP:20140123T173000Z
DESCRIPTION:plus d'infos sur : https://04.demosphere.net/rv/98
DTSTART:20140123T173000Z
DTEND:20140123T183000Z
GEO:+44.090481;+6.231952
LOCATION:Digne-les-Bains\, \nCinétoiles\, avenue François-Cuzin (rond-point
  du monument aux morts)
SUMMARY:Projection-débat : « Le courage de refuser »
URL:https://04.demosphere.net/rv/98
END:VEVENT
END:VCALENDAR
